BEGIN:VCALENDAR
VERSION:2.0
PRODID:-//eventon.com NONSGML v1.0//EN
CALSCALE:GREGORIAN
METHOD:PUBLISH
BEGIN:VEVENT
UID:69e4cb9ecd4fd
DTSTAMP:20260419T123334Z
DTSTART:20260422T230000Z
DTEND:20260423T020000Z
LOCATION:Drom Taberna 458 Queen St W\,  Toronto\,  ON M5V 2A8
SUMMARY:Fred Spek's CaMp CoMbO at Drom Taberna
DESCRIPTION:Oddball cover songs\,  original tunes and exuberant playing for
 m a wacky hybrid of pop\,  swing\,  jazz\,  polka\,  TV themes\,  surf\,  a
 nd maudlin ballads ... Jolly jazz for weirdos! Fred Spek - sax and singing 
 Tim Shia - drums Alan Zemaitis - organ Nichol Robertson - guitar $ donation
 /PWYC\nhttps://jazzintoronto.ca/events/fred-speks-camp-combo-at-drom-tabern
 a/
URL:https://jazzintoronto.ca/events/fred-speks-camp-combo-at-drom-taberna/
END:VEVENT
END:VCALENDAR