BEGIN:VCALENDAR
VERSION:2.0
PRODID:-//eventon.com NONSGML v1.0//EN
CALSCALE:GREGORIAN
METHOD:PUBLISH
BEGIN:VEVENT
UID:69e4e33e78a2a
DTSTAMP:20260419T141422Z
DTSTART:20260404T000000Z
DTEND:20260404T020000Z
LOCATION:The Mezz 1546 Queen St W\,  Toronto\,  ON M6R 1A6
SUMMARY:Fred Spek's CaMp CoMbO at The Mezz
DESCRIPTION:Oddball cover songs\,  original tunes and exuberant playing for
 m a wacky hybrid of pop/swing/jazz\,  TV themes\,  surf\,  and maudlin ball
 ads. Screwball lounge! Fred Spek - sax and singing Nichol Robertson - guita
 rs/comptroller Vivienne Wilder - bass by donation - PWYC!\nhttps://jazzinto
 ronto.ca/events/fred-speks-camp-combo-at-the-mezz/
URL:https://jazzintoronto.ca/events/fred-speks-camp-combo-at-the-mezz/
END:VEVENT
END:VCALENDAR