BEGIN:VCALENDAR
VERSION:2.0
PRODID:-//eventon.com NONSGML v1.0//EN
CALSCALE:GREGORIAN
METHOD:PUBLISH
BEGIN:VEVENT
UID:69e5dbf462f9f
DTSTAMP:20260420T075532Z
DTSTART:20260426T153000Z
DTEND:20260426T183000Z
LOCATION:Joni Restaurant 4 Avenue Rd\,  Toronto\,  Ontario M5R 2E8
SUMMARY:Eric Liang
DESCRIPTION:Eric Liang\nhttps://jazzintoronto.ca/events/eric-liang/
URL:https://jazzintoronto.ca/events/eric-liang/
END:VEVENT
END:VCALENDAR