BEGIN:VCALENDAR
VERSION:2.0
PRODID:-//eventon.com NONSGML v1.0//EN
CALSCALE:GREGORIAN
METHOD:PUBLISH
BEGIN:VEVENT
UID:69e5c52075b6b
DTSTAMP:20260420T061808Z
DTSTART:20260425T153000Z
DTEND:20260425T183000Z
LOCATION:Joni Restaurant 4 Avenue Rd\,  Toronto\,  Ontario M5R 2E8
SUMMARY:Amanda Tosoff
DESCRIPTION:Amanda Tosoff is a B.C-raised\,  Toronto-based pianist\,  compo
 ser\,  and educator with six albums to her credit. As a bandleader and side
 -woman\,  she has performed with internationally-recognized artists such as
  Emilie-Claire Barlow\,  Ingrid and Christine Jensen\,  Brad Turner\,  Phil
  Dwyer\,  and many more. Her own groups have been featured at festivals[..]
 \nhttps://jazzintoronto.ca/events/amanda-tosoff/
URL:https://jazzintoronto.ca/events/amanda-tosoff/
END:VEVENT
END:VCALENDAR