BEGIN:VCALENDAR
VERSION:2.0
PRODID:-//eventon.com NONSGML v1.0//EN
CALSCALE:GREGORIAN
METHOD:PUBLISH
BEGIN:VEVENT
UID:69e5ad4cf3758
DTSTAMP:20260420T043628Z
DTSTART:20260417T223000Z
DTEND:20260418T013000Z
LOCATION:Joni Restaurant 4 Avenue Rd\,  Toronto\,  Ontario M5R 2E8
SUMMARY:Chimbongo Fusion
DESCRIPTION:Chimbongo fusion band is a collective of musicians that started
  in 2016 in Mexico and continue the amazing journey of combining different 
 genres of Latin music here in Toronto. Panama meets Brazil through the main
  players (Jorge &amp; Regis) who mix their main influences from Bossa\,  Cu
 mbia\,  samba\,  salsa and[..]\nhttps://jazzintoronto.ca/events/chimbongo-f
 usion/
URL:https://jazzintoronto.ca/events/chimbongo-fusion/
END:VEVENT
END:VCALENDAR