BEGIN:VCALENDAR
VERSION:2.0
PRODID:-//eventon.com NONSGML v1.0//EN
CALSCALE:GREGORIAN
METHOD:PUBLISH
BEGIN:VEVENT
UID:69e5927000ea0
DTSTAMP:20260420T024152Z
DTSTART:20260418T220000Z
DTEND:20260419T010000Z
LOCATION:Joni Restaurant 4 Avenue Rd\,  Toronto\,  Ontario M5R 2E8
SUMMARY:Ale Nuñez
DESCRIPTION:Ale Nuñez\nhttps://jazzintoronto.ca/events/ale-nunez-2/
URL:https://jazzintoronto.ca/events/ale-nunez-2/
END:VEVENT
END:VCALENDAR