BEGIN:VCALENDAR
VERSION:2.0
PRODID:-//eventon.com NONSGML v1.0//EN
CALSCALE:GREGORIAN
METHOD:PUBLISH
BEGIN:VEVENT
UID:69e573f16ca0d
DTSTAMP:20260420T003145Z
DTSTART:20260411T220000Z
DTEND:20260412T010000Z
LOCATION:Joni Restaurant 4 Avenue Rd\,  Toronto\,  Ontario M5R 2E8
SUMMARY:Ale Nuñez
DESCRIPTION:Ale Nuñez\nhttps://jazzintoronto.ca/events/ale-nunez/
URL:https://jazzintoronto.ca/events/ale-nunez/
END:VEVENT
END:VCALENDAR