BEGIN:VCALENDAR
VERSION:2.0
PRODID:-//eventon.com NONSGML v1.0//EN
CALSCALE:GREGORIAN
METHOD:PUBLISH
BEGIN:VEVENT
UID:69e55bb50eae6
DTSTAMP:20260419T224821Z
DTSTART:20260418T153000Z
DTEND:20260418T183000Z
LOCATION:Joni Restaurant 4 Avenue Rd\,  Toronto\,  Ontario M5R 2E8
SUMMARY:Emmett Hodgins
DESCRIPTION:Emmett Hodgins is a Victoria BC-born pianist\,  proficient in c
 lassical\,  jazz\,  folk and contemporary piano and music. After completing
  his RCM 10 and teaching at the VCM in Victoria\,  Emmett moved to Toronto 
 to pursue a Bachelor’s in Jazz Performance at Humber College. Now graduat
 ed with Honors\,  Emmett is regularly[..]\nhttps://jazzintoronto.ca/events/
 emmett-hodgins-2/
URL:https://jazzintoronto.ca/events/emmett-hodgins-2/
END:VEVENT
END:VCALENDAR