BEGIN:VCALENDAR
VERSION:2.0
PRODID:-//eventon.com NONSGML v1.0//EN
CALSCALE:GREGORIAN
METHOD:PUBLISH
BEGIN:VEVENT
UID:69e52716197f4
DTSTAMP:20260419T190350Z
DTSTART:20260410T223000Z
DTEND:20260411T023000Z
LOCATION:Joni Restaurant 4 Avenue Rd\,  Toronto\,  Ontario M5R 2E8
SUMMARY:Nelson Sobral
DESCRIPTION:"Nelson Sobral is a singer-songwriter guitarist hailing from To
 ronto\,  Canada. Sobral’s music is as much Americana and blues as it is s
 oul and rock’n’roll" “Hard-as-nails urban soul\,  blues\,  and rock a
 nd roll\,  with the tenderness and twang of a roadside tavern. Toronto-base
 d songwriter inspired by heart-worn country\,  northern soul\,  urban[..]\n
 https://jazzintoronto.ca/events/nelson-sobral/
URL:https://jazzintoronto.ca/events/nelson-sobral/
END:VEVENT
END:VCALENDAR