BEGIN:VCALENDAR
VERSION:2.0
PRODID:-//eventon.com NONSGML v1.0//EN
CALSCALE:GREGORIAN
METHOD:PUBLISH
BEGIN:VEVENT
UID:69e50f7267b58
DTSTAMP:20260419T172258Z
DTSTART:20260409T223000Z
DTEND:20260410T013000Z
LOCATION:Joni Restaurant 4 Avenue Rd\,  Toronto\,  Ontario M5R 2E8
SUMMARY:Jesse Maxwell
DESCRIPTION:Distinctive in his own brand of Pop\,  Alternative R&amp;B and 
 Soul\,  Toronto native Jesse Maxwell has morphed into a prolific singer/son
 gwriter/producer of his own making. Maxwell started releasing music in 2019
  with his debut album\,  Radio Silence (Trans Phatt Records)\,  which quick
 ly garnered substantial play on SiriusXM and over 400k[..]\nhttps://jazzint
 oronto.ca/events/jesse-maxwell/
URL:https://jazzintoronto.ca/events/jesse-maxwell/
END:VEVENT
END:VCALENDAR