BEGIN:VCALENDAR
VERSION:2.0
PRODID:-//eventon.com NONSGML v1.0//EN
CALSCALE:GREGORIAN
METHOD:PUBLISH
BEGIN:VEVENT
UID:69e4f4e15524f
DTSTAMP:20260419T152937Z
DTSTART:20260429T220000Z
DTEND:20260430T010000Z
LOCATION:Joni Restaurant 4 Avenue Rd\,  Toronto\,  Ontario M5R 2E8
SUMMARY:Chris Platt
DESCRIPTION:Chris Platt is an accomplished Toronto-based guitarist and comp
 oser. He regularly performs at well-known venues around the city as a leade
 r and sideman\,  and has played with legendary musicians such as Dave Liebm
 an\,  Norma Winstone\,  Jerry Bergonzi\,  Mike Murley\,  Dave Young\,  and 
 Reg Schwager. Chris holds a Bachelor's Degree in[..]\nhttps://jazzintoronto
 .ca/events/chris-platt-2/
URL:https://jazzintoronto.ca/events/chris-platt-2/
END:VEVENT
END:VCALENDAR