BEGIN:VCALENDAR
VERSION:2.0
PRODID:-//eventon.com NONSGML v1.0//EN
CALSCALE:GREGORIAN
METHOD:PUBLISH
BEGIN:VEVENT
UID:69e4cb43a9bc7
DTSTAMP:20260419T123203Z
DTSTART:20260423T220000Z
DTEND:20260424T010000Z
LOCATION:Joni Restaurant 4 Avenue Rd\,  Toronto\,  Ontario M5R 2E8
SUMMARY:Avery Raquel
DESCRIPTION:Returning recently from Europe\,  where she performed and earne
 d her master's degree in music from Berklee College of Music in Valencia\, 
  Spain\,  Canadian Billboard-charting recording artist\,  Alternative Soul 
 singer Avery Raquel has been entertaining audiences professionally for over
  a decade. Having released 4 solo albums now with critical acclaim and[..]\
 nhttps://jazzintoronto.ca/events/avery-raquel-3/
URL:https://jazzintoronto.ca/events/avery-raquel-3/
END:VEVENT
END:VCALENDAR