BEGIN:VCALENDAR
VERSION:2.0
PRODID:-//eventon.com NONSGML v1.0//EN
CALSCALE:GREGORIAN
METHOD:PUBLISH
BEGIN:VEVENT
UID:69e4f6b447041
DTSTAMP:20260419T153724Z
DTSTART:20260415T220000Z
DTEND:20260416T010000Z
LOCATION:Joni Restaurant 4 Avenue Rd\,  Toronto\,  Ontario M5R 2E8
SUMMARY:Nathan Hiltz
DESCRIPTION:Nathan Hiltz is a Toronto-based jazz guitarist who specializes 
 in trad\,  bebop\,  and solo guitar styles. He is an instructor at Humber C
 ollege and artist in residence at Grace Church on the Hill. Nathan has tour
 ed and recorded with Jill Barber\,  Alex Pangman\,  Ori Dagan\,  Drew Jurec
 ka\,  and Brandi Disterheft[..]\nhttps://jazzintoronto.ca/events/nathan-hil
 tz-2/
URL:https://jazzintoronto.ca/events/nathan-hiltz-2/
END:VEVENT
END:VCALENDAR