BEGIN:VCALENDAR
VERSION:2.0
PRODID:-//eventon.com NONSGML v1.0//EN
CALSCALE:GREGORIAN
METHOD:PUBLISH
BEGIN:VEVENT
UID:69e9eba3d0620
DTSTAMP:20260423T095131Z
DTSTART:20260503T000000Z
DTEND:20260503T020000Z
LOCATION:Hirut Cafe &amp; Jazz 2050 Danforth Ave\,  Toronto\,  Ontario M4C 1J6
SUMMARY:Jake Wilkinson Quintet
DESCRIPTION:trumpeter Jake Wilkinson Quintet featuring special guest Josh B
 rown-trombone w/Lee Wallace-guitar\,  Jonathan Meyer-bass &amp; Norbert Bot
 os-drums $20 Cash Cover Charge\nhttps://jazzintoronto.ca/events/jake-wilkin
 son-quintet/
URL:https://jazzintoronto.ca/events/jake-wilkinson-quintet/
END:VEVENT
END:VCALENDAR