BEGIN:VCALENDAR
VERSION:2.0
PRODID:-//eventon.com NONSGML v1.0//EN
CALSCALE:GREGORIAN
METHOD:PUBLISH
BEGIN:VEVENT
UID:69e4fef658ccd
DTSTAMP:20260419T161238Z
DTSTART:20260521T230000Z
DTEND:20260522T023000Z
LOCATION:Johnny G's Cafe 478 Parliament St\,  Toronto\,  ON M5A 2L3
SUMMARY:Lisa Particelli’s GNO
DESCRIPTION:After 20 years of building one of Toronto’s most loved jazz j
 am communities\,  Lisa Particelli’s GNO returns — now in the heart of C
 abbagetown at Johnny G’s. A vocalist-friendly jazz jam where music\,  sou
 l\,  and community come together. Every third Thursday of the month Live at
  Johnny G’s Jazz Bistro[..]\nhttps://jazzintoronto.ca/events/lisa-partice
 llis-gno-2/
URL:https://jazzintoronto.ca/events/lisa-particellis-gno-2/
END:VEVENT
END:VCALENDAR