BEGIN:VCALENDAR
VERSION:2.0
PRODID:-//eventon.com NONSGML v1.0//EN
CALSCALE:GREGORIAN
METHOD:PUBLISH
BEGIN:VEVENT
UID:69e4e83fef2d6
DTSTAMP:20260419T143543Z
DTSTART:20260501T003000Z
DTEND:20260501T030000Z
LOCATION:Jazz Bistro 251 Victoria St\,  Toronto\,  ON M5B 1T8
SUMMARY:The Sean Bray Quartet
DESCRIPTION:Pat LaBarbera – saxophone Sean Bray – guitar George Koller 
 – bass Davide DiRenzo – drums\nhttps://jazzintoronto.ca/events/the-sean
 -bray-quartet/
URL:https://jazzintoronto.ca/events/the-sean-bray-quartet/
END:VEVENT
END:VCALENDAR