BEGIN:VCALENDAR
VERSION:2.0
PRODID:-//eventon.com NONSGML v1.0//EN
CALSCALE:GREGORIAN
METHOD:PUBLISH
BEGIN:VEVENT
UID:69e4e89346230
DTSTAMP:20260419T143707Z
DTSTART:20260430T003000Z
DTEND:20260430T030000Z
LOCATION:Jazz Bistro 251 Victoria St\,  Toronto\,  ON M5B 1T8
SUMMARY:The Jen Lo Trio
DESCRIPTION:Jen Lo – piano Ben Dwyer – bass Angelica Zavala – drums\n
 https://jazzintoronto.ca/events/the-jen-lo-trio/
URL:https://jazzintoronto.ca/events/the-jen-lo-trio/
END:VEVENT
END:VCALENDAR