BEGIN:VCALENDAR
VERSION:2.0
PRODID:-//eventon.com NONSGML v1.0//EN
CALSCALE:GREGORIAN
METHOD:PUBLISH
BEGIN:VEVENT
UID:69e4e8c7e6a46
DTSTAMP:20260419T143759Z
DTSTART:20260429T003000Z
DTEND:20260429T030000Z
LOCATION:Jazz Bistro 251 Victoria St\,  Toronto\,  ON M5B 1T8
SUMMARY:The Robert Diack Trio
DESCRIPTION:Steven Noronha â€“ piano Brandon Davis â€“ bass Robert Diack â€
 “ drums\nhttps://jazzintoronto.ca/events/the-robert-diack-trio/
URL:https://jazzintoronto.ca/events/the-robert-diack-trio/
END:VEVENT
END:VCALENDAR