BEGIN:VCALENDAR
VERSION:2.0
PRODID:-//eventon.com NONSGML v1.0//EN
CALSCALE:GREGORIAN
METHOD:PUBLISH
BEGIN:VEVENT
UID:69e4e8c7ec8bb
DTSTAMP:20260419T143759Z
DTSTART:20260426T220000Z
DTEND:20260427T003000Z
LOCATION:Jazz Bistro 251 Victoria St\,  Toronto\,  ON M5B 1T8
SUMMARY:Shalom Murray & Friends
DESCRIPTION:Shalom Murray – vocals Alexander Kohlsmith – piano Ben Payn
 e – bass Jesse Basi – drums Special Guests: Ethan Williams – tenor sa
 xophone Samuel Heintzman – trumpet and flugelhorn\nhttps://jazzintoronto.
 ca/events/shalom-murray-friends/
URL:https://jazzintoronto.ca/events/shalom-murray-friends/
END:VEVENT
END:VCALENDAR