BEGIN:VCALENDAR
VERSION:2.0
PRODID:-//eventon.com NONSGML v1.0//EN
CALSCALE:GREGORIAN
METHOD:PUBLISH
BEGIN:VEVENT
UID:69e4e8d271592
DTSTAMP:20260419T143810Z
DTSTART:20260425T033000Z
DTEND:20260424T060000Z
LOCATION:Jazz Bistro 251 Victoria St\,  Toronto\,  ON M5B 1T8
SUMMARY:Late Night Jazz Jam with host Dakota Dogood
DESCRIPTION:Late Night Jazz Jam with host Dakota Dogood\nhttps://jazzintoro
 nto.ca/events/late-night-jazz-jam-with-host-dakota-dogood/
URL:https://jazzintoronto.ca/events/late-night-jazz-jam-with-host-dakota-dogood/
END:VEVENT
END:VCALENDAR