BEGIN:VCALENDAR
VERSION:2.0
PRODID:-//eventon.com NONSGML v1.0//EN
CALSCALE:GREGORIAN
METHOD:PUBLISH
BEGIN:VEVENT
UID:69e4e79c49b2e
DTSTAMP:20260419T143300Z
DTSTART:20260426T000000Z
DTEND:20260426T030000Z
LOCATION:Jazz Bistro 251 Victoria St\,  Toronto\,  ON M5B 1T8
SUMMARY:Colin Hunter & The Joe Sealy Quartet
DESCRIPTION:Colin Hunter â€“ vocals Alison Young â€“ saxophones Joe Sealy â
 €“ piano Paul Novotny â€“ bass Daniel Barnes â€“ drums\nhttps://jazzintoron
 to.ca/events/colin-hunter-the-joe-sealy-quartet/var/ri-1.l-L1
URL:https://jazzintoronto.ca/events/colin-hunter-the-joe-sealy-quartet/var/ri-1.l-L1
END:VEVENT
END:VCALENDAR