BEGIN:VCALENDAR
VERSION:2.0
PRODID:-//eventon.com NONSGML v1.0//EN
CALSCALE:GREGORIAN
METHOD:PUBLISH
BEGIN:VEVENT
UID:69e4e93124de1
DTSTAMP:20260419T143945Z
DTSTART:20260424T003000Z
DTEND:20260424T030000Z
LOCATION:Jazz Bistro 251 Victoria St\,  Toronto\,  ON M5B 1T8
SUMMARY:ONA Ensemble
DESCRIPTION:Olivia Esther – French Horn Victor Prado – French Horn Sheb
 a Thibideau – Bassoon Colleen Allen – Flute/Clarinet/Soprano &amp; Teno
 r saxes André Valerio – Guitar Paco Luviano – Bass\nhttps://jazzintoro
 nto.ca/events/ona-ensemble/
URL:https://jazzintoronto.ca/events/ona-ensemble/
END:VEVENT
END:VCALENDAR