BEGIN:VCALENDAR
VERSION:2.0
PRODID:-//eventon.com NONSGML v1.0//EN
CALSCALE:GREGORIAN
METHOD:PUBLISH
BEGIN:VEVENT
UID:69e4e81c4b279
DTSTAMP:20260419T143508Z
DTSTART:20260423T003000Z
DTEND:20260423T030000Z
LOCATION:Jazz Bistro 251 Victoria St\,  Toronto\,  ON M5B 1T8
SUMMARY:The Bob Brough Quartet
DESCRIPTION:Bob Brough – saxophone David Occhipinti – guitar Artie Roth
  – bass Terry Clarke – drums\nhttps://jazzintoronto.ca/events/the-bob-b
 rough-quartet/
URL:https://jazzintoronto.ca/events/the-bob-brough-quartet/
END:VEVENT
END:VCALENDAR