BEGIN:VCALENDAR
VERSION:2.0
PRODID:-//eventon.com NONSGML v1.0//EN
CALSCALE:GREGORIAN
METHOD:PUBLISH
BEGIN:VEVENT
UID:69e4e8d1e65b6
DTSTAMP:20260419T143809Z
DTSTART:20260422T003000Z
DTEND:20260422T030000Z
LOCATION:Jazz Bistro 251 Victoria St\,  Toronto\,  ON M5B 1T8
SUMMARY:The Alejandra Nuñez Trio
DESCRIPTION:Ale Nuñez – vocals FULL LINEUP TBD\nhttps://jazzintoronto.ca
 /events/the-alejandra-nunez-trio/
URL:https://jazzintoronto.ca/events/the-alejandra-nunez-trio/
END:VEVENT
END:VCALENDAR