BEGIN:VCALENDAR
VERSION:2.0
PRODID:-//eventon.com NONSGML v1.0//EN
CALSCALE:GREGORIAN
METHOD:PUBLISH
BEGIN:VEVENT
UID:69e4e8d1e09a1
DTSTAMP:20260419T143809Z
DTSTART:20260421T210000Z
DTEND:20260421T230000Z
LOCATION:Jazz Bistro 251 Victoria St\,  Toronto\,  ON M5B 1T8
SUMMARY:JB Piano Bar: Duncan Wilson
DESCRIPTION:Duncan Wilson – solo piano\nhttps://jazzintoronto.ca/events/j
 b-piano-bar-duncan-wilson-3/
URL:https://jazzintoronto.ca/events/jb-piano-bar-duncan-wilson-3/
END:VEVENT
END:VCALENDAR