BEGIN:VCALENDAR
VERSION:2.0
PRODID:-//eventon.com NONSGML v1.0//EN
CALSCALE:GREGORIAN
METHOD:PUBLISH
BEGIN:VEVENT
UID:69e4e7c675b45
DTSTAMP:20260419T143342Z
DTSTART:20260419T220000Z
DTEND:20260420T003000Z
LOCATION:Jazz Bistro 251 Victoria St\,  Toronto\,  ON M5B 1T8
SUMMARY:Alex Bird & The Jazz Mavericks
DESCRIPTION:Alex Bird – vocals Jacob Gorzhaltsan – clarinet\,  saxophon
 e Ewen Farncombe – piano Julian Anderson-Bowes – bass Norbert Botos –
  drums\nhttps://jazzintoronto.ca/events/alex-bird-the-jazz-mavericks-4/
URL:https://jazzintoronto.ca/events/alex-bird-the-jazz-mavericks-4/
END:VEVENT
END:VCALENDAR