BEGIN:VCALENDAR
VERSION:2.0
PRODID:-//eventon.com NONSGML v1.0//EN
CALSCALE:GREGORIAN
METHOD:PUBLISH
BEGIN:VEVENT
UID:69e4e81ca5479
DTSTAMP:20260419T143508Z
DTSTART:20260415T210000Z
DTEND:20260415T230000Z
LOCATION:Jazz Bistro 251 Victoria St\,  Toronto\,  ON M5B 1T8
SUMMARY:JB Piano Bar: Ewen Farncombe
DESCRIPTION:Ewen Farncombe – solo piano\nhttps://jazzintoronto.ca/events/
 jb-piano-bar-ewen-farncombe-3/
URL:https://jazzintoronto.ca/events/jb-piano-bar-ewen-farncombe-3/
END:VEVENT
END:VCALENDAR