BEGIN:VCALENDAR
VERSION:2.0
PRODID:-//eventon.com NONSGML v1.0//EN
CALSCALE:GREGORIAN
METHOD:PUBLISH
BEGIN:VEVENT
UID:69e4e791eb006
DTSTAMP:20260419T143249Z
DTSTART:20260415T003000Z
DTEND:20260415T030000Z
LOCATION:Jazz Bistro 251 Victoria St\,  Toronto\,  ON M5B 1T8
SUMMARY:The Jack Zorawski Quartet
DESCRIPTION:Alison Young – sax Duncan Wilson – piano Kevin Coady – dr
 ums Jack Zorawski – bass\nhttps://jazzintoronto.ca/events/the-jack-zoraws
 ki-quartet/
URL:https://jazzintoronto.ca/events/the-jack-zorawski-quartet/
END:VEVENT
END:VCALENDAR