BEGIN:VCALENDAR
VERSION:2.0
PRODID:-//eventon.com NONSGML v1.0//EN
CALSCALE:GREGORIAN
METHOD:PUBLISH
BEGIN:VEVENT
UID:69e4e93061414
DTSTAMP:20260419T143944Z
DTSTART:20260414T210000Z
DTEND:20260414T230000Z
LOCATION:Jazz Bistro 251 Victoria St\,  Toronto\,  ON M5B 1T8
SUMMARY:JB Piano Bar: Duncan Wilson
DESCRIPTION:Duncan Wilson – solo piano\nhttps://jazzintoronto.ca/events/j
 b-piano-bar-duncan-wilson-2/
URL:https://jazzintoronto.ca/events/jb-piano-bar-duncan-wilson-2/
END:VEVENT
END:VCALENDAR