BEGIN:VCALENDAR
VERSION:2.0
PRODID:-//eventon.com NONSGML v1.0//EN
CALSCALE:GREGORIAN
METHOD:PUBLISH
BEGIN:VEVENT
UID:69e4e90c62b28
DTSTAMP:20260419T143908Z
DTSTART:20260412T220000Z
DTEND:20260413T003000Z
LOCATION:Jazz Bistro 251 Victoria St\,  Toronto\,  ON M5B 1T8
SUMMARY:The Adi Braun Quartet
DESCRIPTION:Adi Braun â€“ vocals Don Breithaupt â€“ piano Duncan Hopkins â€
 “ bass Daniel Barnes â€“ drums\nhttps://jazzintoronto.ca/events/the-adi-bra
 un-quartet/
URL:https://jazzintoronto.ca/events/the-adi-braun-quartet/
END:VEVENT
END:VCALENDAR