BEGIN:VCALENDAR
VERSION:2.0
PRODID:-//eventon.com NONSGML v1.0//EN
CALSCALE:GREGORIAN
METHOD:PUBLISH
BEGIN:VEVENT
UID:69e4e893d4eef
DTSTAMP:20260419T143707Z
DTSTART:20260411T033000Z
DTEND:20260410T060000Z
LOCATION:Jazz Bistro 251 Victoria St\,  Toronto\,  ON M5B 1T8
SUMMARY:Late Night Jazz Jam with host Jesse White
DESCRIPTION:\nhttps://jazzintoronto.ca/events/late-night-jazz-jam-with-host
 -jesse-white/
URL:https://jazzintoronto.ca/events/late-night-jazz-jam-with-host-jesse-white/
END:VEVENT
END:VCALENDAR