BEGIN:VCALENDAR
VERSION:2.0
PRODID:-//eventon.com NONSGML v1.0//EN
CALSCALE:GREGORIAN
METHOD:PUBLISH
BEGIN:VEVENT
UID:69e4fdb215f99
DTSTAMP:20260419T160714Z
DTSTART:20260515T000000Z
DTEND:20260515T030000Z
LOCATION:Hugh's Room Live 296 Broadview Ave\,  Toronto\,  ON M4M 2G7
SUMMARY:Bob Wiseman + Lily Frost: Night Owls
DESCRIPTION:Something with a distinct late-night feel is happening! Bob Wis
 eman slips onto his accustomed seat in front of a piano and Lily Frost stra
 ps on her guitar. Yes\,  they’re on the same stage but each solo and nice
 ly-badly behaved! This is Night Owls: a double bill for people who do[..]\n
 https://jazzintoronto.ca/events/bob-wiseman-lily-frost-night-owls/
URL:https://jazzintoronto.ca/events/bob-wiseman-lily-frost-night-owls/
END:VEVENT
END:VCALENDAR