BEGIN:VCALENDAR
VERSION:2.0
PRODID:-//eventon.com NONSGML v1.0//EN
CALSCALE:GREGORIAN
METHOD:PUBLISH
BEGIN:VEVENT
UID:69e4e359016d3
DTSTAMP:20260419T141449Z
DTSTART:20260510T000000Z
DTEND:20260510T024000Z
LOCATION:Hugh's Room Live 296 Broadview Ave\,  Toronto\,  ON M4M 2G7
SUMMARY:Durham County Poets
DESCRIPTION:Durham County Poets are a true band in every sense of the wordâ
 €”dynamic\,  versatile\,  and deeply rooted in storytelling. Formed in 2011
  in a small cafĂ© in Ormstown\,  QuĂ©bec\,  their music has since carried t
 hem to festivals\,  concert halls\,  and clubs across Canada and the United
  States. With an infectious[..]\nhttps://jazzintoronto.ca/events/durham-cou
 nty-poets/
URL:https://jazzintoronto.ca/events/durham-county-poets/
END:VEVENT
END:VCALENDAR