BEGIN:VCALENDAR
VERSION:2.0
PRODID:-//eventon.com NONSGML v1.0//EN
CALSCALE:GREGORIAN
METHOD:PUBLISH
BEGIN:VEVENT
UID:69e4cbac3c89b
DTSTAMP:20260419T123348Z
DTSTART:20260509T000000Z
DTEND:20260609T024000Z
LOCATION:Hugh's Room Live 296 Broadview Ave\,  Toronto\,  ON M4M 2G7
SUMMARY:David Bradstreet with Carl Keesee
DESCRIPTION:David Bradstreet came to Canada from England with his parents a
 nd sister in 1956. After studying architecture he played the Campus Directi
 ons college coffeehouse circuit in the U.S. and for three years visited mos
 t states as a solo performer. He spent pivotal time in New York City workin
 g with Peter[..]\nhttps://jazzintoronto.ca/events/david-bradstreet-with-car
 l-keesee/
URL:https://jazzintoronto.ca/events/david-bradstreet-with-carl-keesee/
END:VEVENT
END:VCALENDAR