BEGIN:VCALENDAR
VERSION:2.0
PRODID:-//eventon.com NONSGML v1.0//EN
CALSCALE:GREGORIAN
METHOD:PUBLISH
BEGIN:VEVENT
UID:69e4d1a14c246
DTSTAMP:20260419T125913Z
DTSTART:20260511T010000Z
DTEND:20260510T050000Z
LOCATION:Grossman's Tavern 377 Spadina Ave.\,  Toronto\,  ON M5T 2G3
SUMMARY:Sunday Jam Night Hosted by Rob Quail
DESCRIPTION:Sunday Jam Night Hosted by Rob Quail\nhttps://jazzintoronto.ca/
 events/sunday-jam-night-hosted-by-rob-quail-2/
URL:https://jazzintoronto.ca/events/sunday-jam-night-hosted-by-rob-quail-2/
END:VEVENT
END:VCALENDAR