BEGIN:VCALENDAR
VERSION:2.0
PRODID:-//eventon.com NONSGML v1.0//EN
CALSCALE:GREGORIAN
METHOD:PUBLISH
BEGIN:VEVENT
UID:69e4cafdef1dd
DTSTAMP:20260419T123053Z
DTSTART:20260412T000000Z
DTEND:20260411T040000Z
LOCATION:Grossman's Tavern 377 Spadina Ave.\,  Toronto\,  ON M5T 2G3
SUMMARY:Petty Theft
DESCRIPTION:Petty Theft\nhttps://jazzintoronto.ca/events/petty-theft/
URL:https://jazzintoronto.ca/events/petty-theft/
END:VEVENT
END:VCALENDAR