BEGIN:VCALENDAR
VERSION:2.0
PRODID:-//eventon.com NONSGML v1.0//EN
CALSCALE:GREGORIAN
METHOD:PUBLISH
BEGIN:VEVENT
UID:69e4c6443e3a2
DTSTAMP:20260419T121044Z
DTSTART:20260406T010000Z
DTEND:20260405T050000Z
LOCATION:Grossman's Tavern 377 Spadina Ave.\,  Toronto\,  ON M5T 2G3
SUMMARY:Sunday Jam Night Hosted by Paul Storm
DESCRIPTION:Sunday Jam Night Hosted by Paul Storm\nhttps://jazzintoronto.ca
 /events/sunday-jam-night-hosted-by-paul-storm/var/ri-1.l-L1
URL:https://jazzintoronto.ca/events/sunday-jam-night-hosted-by-paul-storm/var/ri-1.l-L1
END:VEVENT
END:VCALENDAR