BEGIN:VCALENDAR
VERSION:2.0
PRODID:-//eventon.com NONSGML v1.0//EN
CALSCALE:GREGORIAN
METHOD:PUBLISH
BEGIN:VEVENT
UID:69e4cb969fa10
DTSTAMP:20260419T123326Z
DTSTART:20260405T010000Z
DTEND:20260404T050000Z
LOCATION:Grossman's Tavern 377 Spadina Ave.\,  Toronto\,  ON M5T 2G3
SUMMARY:Jeff G and the Four Heads
DESCRIPTION:Jeff G and the Four Heads\nhttps://jazzintoronto.ca/events/jeff
 -g-and-the-four-heads/
URL:https://jazzintoronto.ca/events/jeff-g-and-the-four-heads/
END:VEVENT
END:VCALENDAR