BEGIN:VCALENDAR
VERSION:2.0
PRODID:-//eventon.com NONSGML v1.0//EN
CALSCALE:GREGORIAN
METHOD:PUBLISH
BEGIN:VEVENT
UID:69e4cb96a99ac
DTSTAMP:20260419T123326Z
DTSTART:20260404T013000Z
DTEND:20260403T050000Z
LOCATION:Grossman's Tavern 377 Spadina Ave.\,  Toronto\,  ON M5T 2G3
SUMMARY:Chloe Watkinson
DESCRIPTION:Chloe Watkinson\nhttps://jazzintoronto.ca/events/chloe-watkinso
 n/
URL:https://jazzintoronto.ca/events/chloe-watkinson/
END:VEVENT
END:VCALENDAR