BEGIN:VCALENDAR
VERSION:2.0
PRODID:-//eventon.com NONSGML v1.0//EN
CALSCALE:GREGORIAN
METHOD:PUBLISH
BEGIN:VEVENT
UID:69e4cb43b5b23
DTSTAMP:20260419T123203Z
DTSTART:20260403T010000Z
DTEND:20260402T050000Z
LOCATION:Grossman's Tavern 377 Spadina Ave.\,  Toronto\,  ON M5T 2G3
SUMMARY:The Jelly Donuts
DESCRIPTION:The Jelly Donuts\nhttps://jazzintoronto.ca/events/the-jelly-don
 uts/
URL:https://jazzintoronto.ca/events/the-jelly-donuts/
END:VEVENT
END:VCALENDAR