BEGIN:VCALENDAR
VERSION:2.0
PRODID:-//eventon.com NONSGML v1.0//EN
CALSCALE:GREGORIAN
METHOD:PUBLISH
BEGIN:VEVENT
UID:69e4e2b0d4a77
DTSTAMP:20260419T141200Z
DTSTART:20260409T220000Z
DTEND:20260410T035900Z
LOCATION:Drom Taberna 458 Queen St W\,  Toronto\,  ON M5V 2A8
SUMMARY:Jenner Fox & Jeremy Elliott with Cuchulain
DESCRIPTION:Jenner Fox &amp; Jeremy Elliott are a Bellingham\,  WA–based 
 internationally touring duo praised for their poignant storytelling\,  intr
 icate guitar interplay\,  and uncanny ability to blend two into one. Their 
 debut LP\,  The Moon That Moves The Sea (2024)\,  was hailed by Americana U
 K as “evocative and revelatory.” Fox\,  a prolific[..]\nhttps://jazzint
 oronto.ca/events/jenner-fox-jeremy-elliott-with-cuchulain/
URL:https://jazzintoronto.ca/events/jenner-fox-jeremy-elliott-with-cuchulain/
END:VEVENT
END:VCALENDAR