BEGIN:VCALENDAR
VERSION:2.0
PRODID:-//eventon.com NONSGML v1.0//EN
CALSCALE:GREGORIAN
METHOD:PUBLISH
BEGIN:VEVENT
UID:69e4f6ed907c4
DTSTAMP:20260419T153821Z
DTSTART:20260406T063000Z
DTEND:20260406T080000Z
LOCATION:Drom Taberna 458 Queen St W\,  Toronto\,  ON M5V 2A8
SUMMARY:NEFE & Friends
DESCRIPTION:Enshrined within Nefe’s rock &amp; soul sensibilities you fin
 d an artist who is equal parts songwriting oracle and vocal magician. Maste
 rfully in control of their vocal undulations\,  combined with the rawness o
 f lyrics\,  Nefe’s songs lure listeners into a journey through a rich mus
 ical tapestry built upon the bedrock of[..]\nhttps://jazzintoronto.ca/event
 s/nefe-friends/
URL:https://jazzintoronto.ca/events/nefe-friends/
END:VEVENT
END:VCALENDAR