BEGIN:VCALENDAR
VERSION:2.0
PRODID:-//eventon.com NONSGML v1.0//EN
CALSCALE:GREGORIAN
METHOD:PUBLISH
BEGIN:VEVENT
UID:69e5138707037
DTSTAMP:20260419T174023Z
DTSTART:20260406T024500Z
DTEND:20260406T035900Z
LOCATION:Drom Taberna 458 Queen St W\,  Toronto\,  ON M5V 2A8
SUMMARY:Moneka Arabic Jazz
DESCRIPTION:A musical representation of Juno-nominated Ahmed Moneka’s jou
 rney from Baghdad\,  Iraq to the heart of Toronto\,  Canada —Drawing on h
 is Afro-Sufi-Iraqi music heritage\,  Juno-nominated Ahmed Moneka delivers a
  joyful and transcendent mix of African grooves and Arabic folk melodies\, 
  informed by contemporary funk\,  soul and jazz.\nhttps://jazzintoronto.ca/
 events/moneka-arabic-jazz/
URL:https://jazzintoronto.ca/events/moneka-arabic-jazz/
END:VEVENT
END:VCALENDAR