BEGIN:VCALENDAR
VERSION:2.0
PRODID:-//eventon.com NONSGML v1.0//EN
CALSCALE:GREGORIAN
METHOD:PUBLISH
BEGIN:VEVENT
UID:69e52b95f0834
DTSTAMP:20260419T192301Z
DTSTART:20260405T063000Z
DTEND:20260405T080000Z
LOCATION:Drom Taberna 458 Queen St W\,  Toronto\,  ON M5V 2A8
SUMMARY:Secret Act
DESCRIPTION:Secret Act\nhttps://jazzintoronto.ca/events/secret-act/
URL:https://jazzintoronto.ca/events/secret-act/
END:VEVENT
END:VCALENDAR