BEGIN:VCALENDAR
VERSION:2.0
PRODID:-//eventon.com NONSGML v1.0//EN
CALSCALE:GREGORIAN
METHOD:PUBLISH
BEGIN:VEVENT
UID:69e5447f37c53
DTSTAMP:20260419T210919Z
DTSTART:20260405T033000Z
DTEND:20260405T035900Z
LOCATION:Drom Taberna 458 Queen St W\,  Toronto\,  ON M5V 2A8
SUMMARY:31 Minutos
DESCRIPTION:31 Minutos Tribute Band  is a high-energy live performance tha
 t brings the iconic Chilean TV show 31 Minutos into a vibrant\,  bilingual 
 stage experience. Blending Latin rhythms\,  theatrical storytelling\,  and 
 live band arrangements\,  the show reimagines beloved songs with a fresh\, 
  adult-friendly twist while preserving the humor and nostalgia of[..]\nhttp
 s://jazzintoronto.ca/events/31-minutos/
URL:https://jazzintoronto.ca/events/31-minutos/
END:VEVENT
END:VCALENDAR