BEGIN:VCALENDAR
VERSION:2.0
PRODID:-//eventon.com NONSGML v1.0//EN
CALSCALE:GREGORIAN
METHOD:PUBLISH
BEGIN:VEVENT
UID:69e55d4044ec6
DTSTAMP:20260419T225456Z
DTSTART:20260404T063000Z
DTEND:20260404T080000Z
LOCATION:Drom Taberna 458 Queen St W\,  Toronto\,  ON M5V 2A8
SUMMARY:Cactus Arms
DESCRIPTION:Cactus Arms\nhttps://jazzintoronto.ca/events/cactus-arms-2/
URL:https://jazzintoronto.ca/events/cactus-arms-2/
END:VEVENT
END:VCALENDAR