BEGIN:VCALENDAR
VERSION:2.0
PRODID:-//eventon.com NONSGML v1.0//EN
CALSCALE:GREGORIAN
METHOD:PUBLISH
BEGIN:VEVENT
UID:69e57395c1b45
DTSTAMP:20260420T003013Z
DTSTART:20260403T063000Z
DTEND:20260403T080000Z
LOCATION:Drom Taberna 458 Queen St W\,  Toronto\,  ON M5V 2A8
SUMMARY:Serge Nikol
DESCRIPTION:International One Man Band\nhttps://jazzintoronto.ca/events/ser
 ge-nikol/
URL:https://jazzintoronto.ca/events/serge-nikol/
END:VEVENT
END:VCALENDAR