BEGIN:VCALENDAR
VERSION:2.0
PRODID:-//eventon.com NONSGML v1.0//EN
CALSCALE:GREGORIAN
METHOD:PUBLISH
BEGIN:VEVENT
UID:69e5924179093
DTSTAMP:20260420T024105Z
DTSTART:20260402T030000Z
DTEND:20260402T035900Z
LOCATION:Drom Taberna 458 Queen St W\,  Toronto\,  ON M5V 2A8
SUMMARY:Kune Global Jam Ft Fethi Nadjem
DESCRIPTION:Kune Global Jam Ft Fethi Nadjem\nhttps://jazzintoronto.ca/event
 s/kune-global-jam-ft-fethi-nadjem/
URL:https://jazzintoronto.ca/events/kune-global-jam-ft-fethi-nadjem/
END:VEVENT
END:VCALENDAR