BEGIN:VCALENDAR
VERSION:2.0
PRODID:-//eventon.com NONSGML v1.0//EN
CALSCALE:GREGORIAN
METHOD:PUBLISH
BEGIN:VEVENT
UID:69e5ac1fcb4b9
DTSTAMP:20260420T043127Z
DTSTART:20260401T230000Z
DTEND:20260402T035900Z
LOCATION:Drom Taberna 458 Queen St W\,  Toronto\,  ON M5V 2A8
SUMMARY:Moskitto Bar
DESCRIPTION:Moskitto Bar is a fresh and unique sound created in the multi-c
 ultural hub of Toronto\,  Canada. Their sound combines a beautiful and orig
 inal mix of Ukrainian\,  Balkan\,  Iraqi Middle-Easern and French Celtic mu
 sic.\nhttps://jazzintoronto.ca/events/moskitto-bar/
URL:https://jazzintoronto.ca/events/moskitto-bar/
END:VEVENT
END:VCALENDAR