BEGIN:VCALENDAR
VERSION:2.0
PRODID:-//eventon.com NONSGML v1.0//EN
CALSCALE:GREGORIAN
METHOD:PUBLISH
BEGIN:VEVENT
UID:69e513d165708
DTSTAMP:20260419T174137Z
DTSTART:20260404T210000Z
DTEND:20260404T230000Z
LOCATION:Castro's Lounge 2116 Queen St E\,  Toronto\,  ON M4E 1E2
SUMMARY:Tracey Gallant
DESCRIPTION:Tracey is aÂ captivating and lively performer known for her inf
 ectious energy. She is based primarily inÂ Toronto\,  Canada\, Â but she ha
 sÂ alsoÂ travelled and performed on many stages throughout Canada\,  the US
 \,  overseas (the middle east\,  Morocco)\,  and throughout the Caribbean. 
 Tracey is a versatile singer and coversÂ an extensive and diverse range ofÂ
  musical styles\, [..]\nhttps://jazzintoronto.ca/events/tracey-gallant/
URL:https://jazzintoronto.ca/events/tracey-gallant/
END:VEVENT
END:VCALENDAR